BEGIN:VCALENDAR
VERSION:2.0
PRODID:-//SBCC Schweizerischer Bearded Collie Club - ECPv6.15.20//NONSGML v1.0//EN
CALSCALE:GREGORIAN
METHOD:PUBLISH
X-WR-CALNAME:SBCC Schweizerischer Bearded Collie Club
X-ORIGINAL-URL:https://beardedcollie.ch
X-WR-CALDESC:Veranstaltungen für SBCC Schweizerischer Bearded Collie Club
REFRESH-INTERVAL;VALUE=DURATION:PT1H
X-Robots-Tag:noindex
X-PUBLISHED-TTL:PT1H
BEGIN:VTIMEZONE
TZID:Europe/Zurich
BEGIN:DAYLIGHT
TZOFFSETFROM:+0100
TZOFFSETTO:+0200
TZNAME:CEST
DTSTART:20230326T010000
END:DAYLIGHT
BEGIN:STANDARD
TZOFFSETFROM:+0200
TZOFFSETTO:+0100
TZNAME:CET
DTSTART:20231029T010000
END:STANDARD
BEGIN:DAYLIGHT
TZOFFSETFROM:+0100
TZOFFSETTO:+0200
TZNAME:CEST
DTSTART:20240331T010000
END:DAYLIGHT
BEGIN:STANDARD
TZOFFSETFROM:+0200
TZOFFSETTO:+0100
TZNAME:CET
DTSTART:20241027T010000
END:STANDARD
BEGIN:DAYLIGHT
TZOFFSETFROM:+0100
TZOFFSETTO:+0200
TZNAME:CEST
DTSTART:20250330T010000
END:DAYLIGHT
BEGIN:STANDARD
TZOFFSETFROM:+0200
TZOFFSETTO:+0100
TZNAME:CET
DTSTART:20251026T010000
END:STANDARD
BEGIN:DAYLIGHT
TZOFFSETFROM:+0100
TZOFFSETTO:+0200
TZNAME:CEST
DTSTART:20260329T010000
END:DAYLIGHT
BEGIN:STANDARD
TZOFFSETFROM:+0200
TZOFFSETTO:+0100
TZNAME:CET
DTSTART:20261025T010000
END:STANDARD
BEGIN:DAYLIGHT
TZOFFSETFROM:+0100
TZOFFSETTO:+0200
TZNAME:CEST
DTSTART:20270328T010000
END:DAYLIGHT
BEGIN:STANDARD
TZOFFSETFROM:+0200
TZOFFSETTO:+0100
TZNAME:CET
DTSTART:20271031T010000
END:STANDARD
END:VTIMEZONE
BEGIN:VEVENT
DTSTART;VALUE=DATE:20260321
DTEND;VALUE=DATE:20260322
DTSTAMP:20260419T181324
CREATED:20251126T091625Z
LAST-MODIFIED:20260208T115650Z
UID:10000132-1774051200-1774137599@beardedcollie.ch
SUMMARY:Generalversammlung des Schweizerischen Bearded Collie Clubs | 21. März 2026
DESCRIPTION:Wir laden Sie herzlich zur 47. ordentlichen Generalversammlung des Schweizerischen Bearded Collie Clubs ein.\nDiese findet am Samstag\, 21. März 2026\, um 10.30 Uhr im Kompetenzzentrum Hund Schweiz\, Thalstrasse 49\, 4710 Balsthal\, statt. \nNach dem Mittagessen haben Sie die Möglichkeit\, an einem Vortrag einer Tierärztin zum Thema «Nothilfe beim Hund» mit praktischem Teil teilzunehmen (13.30–16.00 Uhr). \nDie Einladungen und alle weiteren Informationen erhalten die Mitglieder rechtzeitig per Mail oder per Post. \nWir freuen uns\, Sie zahlreich begrüssen zu dürfen.
URL:https://beardedcollie.ch/event/47-generalversammlung-am-21-maerz-2026-in-balstahl-so/
END:VEVENT
BEGIN:VEVENT
DTSTART;VALUE=DATE:20260215
DTEND;VALUE=DATE:20260216
DTSTAMP:20260419T181324
CREATED:20260110T164455Z
LAST-MODIFIED:20260110T164747Z
UID:10000134-1771113600-1771199999@beardedcollie.ch
SUMMARY:Winterspaziergang in Nürensdorf am 15. Februar 2026
DESCRIPTION:Daniela & Sacha Bertschi laden herzlich zum Winterspaziergang in 8309 Nürensdorf ein. Der Anlass findet am Sonntag\, 15. Februar 2026\, statt. Treffpunkt ist bei der Hütte des Armbrustschützenvereins Nürensdorf. \nAlle weiteren Informationen finden sich in der Einladung. \nWir freuen uns auf zahlreiche Teilnehmende\, auch Gäste sind herzlich willkommen. \nEinladung
URL:https://beardedcollie.ch/event/winterspaziergang-in-nuerensdorf-am-15-februar-2026/
ATTACH;FMTTYPE=image/jpeg:https://beardedcollie.ch/wp-content/uploads/2026/01/Titel-WS-Nuerensdorf-2026.jpg
END:VEVENT
BEGIN:VEVENT
DTSTART;VALUE=DATE:20251207
DTEND;VALUE=DATE:20251208
DTSTAMP:20260419T181324
CREATED:20250324T162053Z
LAST-MODIFIED:20251101T141600Z
UID:10000126-1765065600-1765151999@beardedcollie.ch
SUMMARY:Chlausspaziergang in St. Gallen am 7. Dezember 2025
DESCRIPTION:Daniela Pötz und die Flying Dancers laden euch herzlich zum Chlausspaziergang in St. Gallen ein. Der Anlass findet am Sonntag\, 07. Dezember 2025 statt. Treffpunkt ist vor dem Restaurant «Unterer Band»\, Brandstrasse 40\, 9011 St. Georgen. \nAlle weiteren Informationen finden sich in der beiliegenden Einladung. \nWir freuen uns auf zahlreiche Teilnehmende\, auch Gäste sind herzlich willkommen. \nEinladung Chlausspaziergang \n 
URL:https://beardedcollie.ch/event/chlausspaziergang-in-st-gallen-am-7-dezember-2025/
ATTACH;FMTTYPE=image/jpeg:https://beardedcollie.ch/wp-content/uploads/2025/11/Titel-Chlausspaziergang-2025.jpg
END:VEVENT
BEGIN:VEVENT
DTSTART;VALUE=DATE:20251012
DTEND;VALUE=DATE:20251013
DTSTAMP:20260419T181324
CREATED:20250324T161825Z
LAST-MODIFIED:20250819T182026Z
UID:10000125-1760227200-1760313599@beardedcollie.ch
SUMMARY:Herbstspaziergang in Zunzgen\, BL am 12. Oktober 2025
DESCRIPTION:Nathalie Jäggin und Uschi Asmus laden zum Herbstspaziergang nach Zunzgen am 12. Oktober 2025 ein. Wir treffen uns um 10.30 Uhr bei der Waldhütte. Alle Informationen finden sie auf der Einladung. Wir freuen uns auf viele Mitglieder\, auch Gäste sind herzliche willkommen. \nEinladung Herbstspaziergang
URL:https://beardedcollie.ch/event/herbstspaziergang-in-zunzgen-bl-am-12-oktober-2025/
ATTACH;FMTTYPE=image/jpeg:https://beardedcollie.ch/wp-content/uploads/2025/08/Titel_HP.jpg
END:VEVENT
BEGIN:VEVENT
DTSTART;VALUE=DATE:20251003
DTEND;VALUE=DATE:20251006
DTSTAMP:20260419T181324
CREATED:20250112T174019Z
LAST-MODIFIED:20250424T103956Z
UID:10000119-1759449600-1759708799@beardedcollie.ch
SUMMARY:CAC/CACIB Genf\, 03. - 05. Oktober 2025
DESCRIPTION:Neues Datum: Die geplanten CAC/CACIB Ausstellungen am 14./15./16.11.2025 in Genf müssen auf Grund von Umbauarbeiten der Palexpo Hallen verschoben werden. \nNeues Datum: 03./04./05. Oktober 2025 \nAn drei Tagen finden 4 Ausstellungen statt. 3 CACIB & 1 CAC \nFreitag\, 03. Oktober 2025 Vormittag: CAC\, Richter: Vojislav Al Daghistani (SRB) \nFreitag 03. Oktober 2025 Nachmittag: CACIB I\, Richterin: Satu Ylä-Mononen (FIN) \nSamstag 04. Oktober 2025: CACIB II\, Richter: Christian Karcher (FRA) \nSonntag 05. Oktober 2025: CACIB III\, Richter: Tino Pehar\, (HRV)
URL:https://beardedcollie.ch/event/cac-cacib-genf-14-16-november-2025/
END:VEVENT
BEGIN:VEVENT
DTSTART;VALUE=DATE:20250921
DTEND;VALUE=DATE:20250922
DTSTAMP:20260419T181324
CREATED:20250112T175942Z
LAST-MODIFIED:20250913T173005Z
UID:10000121-1758412800-1758499199@beardedcollie.ch
SUMMARY:CAC Clubshow in Aarburg\, 21. September 2025
DESCRIPTION:Am 21. September 2025 findet unsere CAC Clubshow (Outdoor) auf dem Gelände der Hundefreunde Aarburg und Umgebung in 4663 Aarburg statt. Wir freuen uns sehr\, Frau Barbara Müller (CH) als Richterin begrüssen zu dürfen. Alle weiteren Informationen entnehmen sie bitte der untenstehenden Einladung. Wir freuen uns auf zahlreiche Meldungen und einen gelungenen Ausstellungstag. \nEinladung CAC Clubshow 2025
URL:https://beardedcollie.ch/event/cac-clubshow-21-september-2025/
ATTACH;FMTTYPE=image/jpeg:https://beardedcollie.ch/wp-content/uploads/2025/05/Pokale_2025_2.jpg
END:VEVENT
BEGIN:VEVENT
DTSTART;VALUE=DATE:20250909
DTEND;VALUE=DATE:20250910
DTSTAMP:20260419T181324
CREATED:20250526T150933Z
LAST-MODIFIED:20250526T151023Z
UID:10000128-1757376000-1757462399@beardedcollie.ch
SUMMARY:Herbstankörung in Aarau am 09. September 2025
DESCRIPTION:Unsere Herbstankörung findet am 09. September 2025 in Aarau (Treffpunkt Bahnhof Aarau um 10.00 Uhr) statt. Bitte melden sie sich bei Interesse frühzeitig bei unserer Zuchtwartin Frau Silvia Egli per Tel.: 079 618 89 56 oder per Mail unter: sherrylane@gmx.ch \nAnmeldungen mit den vollständigen Unterlagen müssen bis am 25. August 2025 bei Frau Egli eingetroffen sein. Bitte beachten Sie\, dass ab sofort für alle Hunde ein DNA Profil Pflicht ist für eine Zuchtzulassung. \nInformationen:  \nFür alle zur Zucht eingesetzten Hunde ist die Hinterlegung der DNA-Profile bei der Stammbuchverwaltung der SKG obligatorisch.  \nEs wird entweder ISAG 2006 oder ISAG 2020 eines akkreditierten / zertifizierten Labor anerkannt.  \n 
URL:https://beardedcollie.ch/event/herbstamkoerung-in-aarau-am-09-september-2025/
END:VEVENT
BEGIN:VEVENT
DTSTART;VALUE=DATE:20250907
DTEND;VALUE=DATE:20250908
DTSTAMP:20260419T181324
CREATED:20250819T152139Z
LAST-MODIFIED:20250819T152139Z
UID:10000130-1757203200-1757289599@beardedcollie.ch
SUMMARY:Welpen Jahrgangstreffen 2024\, 07. September 2025
DESCRIPTION:Am 7. September treffen sich die Welpen\, welche im Jahr 2024 geboren sind\, und ihre Familien zu einem ungezwungen Treffen. Die Halter und Halterinnen werden direkt angeschrieben und informiert.
URL:https://beardedcollie.ch/event/welpen-jahrgangstreffen-2024-07-september-2025/
END:VEVENT
BEGIN:VEVENT
DTSTART;VALUE=DATE:20250830
DTEND;VALUE=DATE:20250901
DTSTAMP:20260419T181324
CREATED:20250112T173802Z
LAST-MODIFIED:20250306T155918Z
UID:10000118-1756512000-1756684799@beardedcollie.ch
SUMMARY:CAC/CACIB Luzern\, 30./31. August 2025
DESCRIPTION:An zwei Tagen finden 3 Ausstellungen statt. Samstag\, 30.08.2025 Vormittag: CAC\, Richter: Leif-Hermann Wilberg (NOR)\, Samstag. 30.08.2025 Nachmittag: CACIB I\, Richter: Milan Krinke (CZE)\, Sonntag\, 31.08.2025: CACIB II\, Richter: Milan Marinovic (SRB)
URL:https://beardedcollie.ch/event/cac-cacib-luzern-30-31-08-2025/
END:VEVENT
BEGIN:VEVENT
DTSTART;VALUE=DATE:20250817
DTEND;VALUE=DATE:20250818
DTSTAMP:20260419T181324
CREATED:20250725T165030Z
LAST-MODIFIED:20250725T170353Z
UID:10000129-1755388800-1755475199@beardedcollie.ch
SUMMARY:Sommer-Spaziergang in Basadingen-Schlattingen\, 17. August 2025
DESCRIPTION:Daniela und Sacha Bertschi laden sie herzlich zu einem sommerlichen Spaziergang in 8254 Basadingen-Schlattingen ein. Der Anlass findet am Sonntag\, 17. August 2025 statt. Treffpunkt ist beim Schützenhaus Basadingen. \nAlle weiteren Informationen finden sie in der beiliegenden Einladung. \nWir freuen uns auf zahlreiche Teilnehmende\, auch Gäste sind herzlich willkommen. \nEinladung Sommerspaziergang 2025
URL:https://beardedcollie.ch/event/sommer-spaziergang-in-basadingen-schlattingen-17-august-2025/
ATTACH;FMTTYPE=image/jpeg:https://beardedcollie.ch/wp-content/uploads/2025/07/SBCC-Sommer_Spaziergang_2025.jpg
END:VEVENT
BEGIN:VEVENT
DTSTART;VALUE=DATE:20250706
DTEND;VALUE=DATE:20250707
DTSTAMP:20260419T181324
CREATED:20250513T154419Z
LAST-MODIFIED:20250513T154754Z
UID:10000127-1751760000-1751846399@beardedcollie.ch
SUMMARY:Beardiepfoten Rätselpfad in Diessenhofen\, 06. Juli 2025
DESCRIPTION:Daniela & Sacha Bertschi laden am 6. Juli 2025 zum Beardiepfoten-Rätselpfad nach 5253 Diessenhofen ein. An sechs Stationen erwarten die Beardies und ihre Zweibeiner spannende Aufgaben\, die es gemeinsam zu lösen gilt\, um am Ende das Rätsel zu knacken. Wir freuen uns auf zahlreiche Teilnehmer. \nEinladung \n 
URL:https://beardedcollie.ch/event/beardiepfoten-raetselpfad-in-diessenhofen-06-juli-2025/
ATTACH;FMTTYPE=image/jpeg:https://beardedcollie.ch/wp-content/uploads/2025/05/Einladung-1.jpg
END:VEVENT
BEGIN:VEVENT
DTSTART;VALUE=DATE:20250628
DTEND;VALUE=DATE:20250630
DTSTAMP:20260419T181324
CREATED:20250112T173553Z
LAST-MODIFIED:20250208T135046Z
UID:10000117-1751068800-1751241599@beardedcollie.ch
SUMMARY:CAC/CACIB Aarau\, 28./29. Juni 2025
DESCRIPTION:An zwei Tagen finden 3 Ausstellungen statt.  \nSamstag\, 28.06.2025 Vormittag: CACIB I\, Richter: Petra Marova (CZE) \nSamstag. 28.06.2025 Nachmittag: CAC\, Richterin: Lisbeth Mach\, SUI \nSonntag\, 29.06.2025: CACIB II\, Richterin: Livija Zizevske\, LTU
URL:https://beardedcollie.ch/event/cac-cacib-aarau-28-29-juni-2025/
END:VEVENT
BEGIN:VEVENT
DTSTART;VALUE=DATE:20250504
DTEND;VALUE=DATE:20250505
DTSTAMP:20260419T181324
CREATED:20250208T141104Z
LAST-MODIFIED:20250208T142058Z
UID:10000124-1746316800-1746403199@beardedcollie.ch
SUMMARY:Frühlingswanderung in Pfeffingen am 04. Mai 2025
DESCRIPTION:Schon bald kommt der Frühling und wir hoffen\, Euch auch dieses Jahr wieder auf unsere Wanderung gluschtig zu machen. \nTreffpunkt: auf dem Schlosshof in Pfeffingen um 11.00 Uhr. \nWie schon in den vergangenen Jahren gibt es eine Wanderung von ca.1 bis 1\,5 Stunden rund um Pfeffingen. \nAnschliessend erwartet uns auf dem Schlosshof der bereits beliebte Bauernbrunch à discrétion. \nErna mit George und Woody freuen sich schon auf viele Freunde mit ihren Begleitern \n Einladung
URL:https://beardedcollie.ch/event/fruehlingswanderung-in-pfeffingen-am-04-mai-2025/
ATTACH;FMTTYPE=image/jpeg:https://beardedcollie.ch/wp-content/uploads/2025/02/Pfeffingen2025.jpg
END:VEVENT
BEGIN:VEVENT
DTSTART;VALUE=DATE:20250426
DTEND;VALUE=DATE:20250427
DTSTAMP:20260419T181324
CREATED:20250208T135522Z
LAST-MODIFIED:20250208T135559Z
UID:10000123-1745625600-1745711999@beardedcollie.ch
SUMMARY:Delegiertenversammlung der SKG\, 26. April 2025
DESCRIPTION:Die diesjährige Delegiertenversammlung der SKG findet am 26. April 2025 im Kompetenzzentrum Hund in Balsthal statt.
URL:https://beardedcollie.ch/event/delegiertenversammlung-der-skg-26-april-2025/
END:VEVENT
BEGIN:VEVENT
DTSTART;VALUE=DATE:20250322
DTEND;VALUE=DATE:20250323
DTSTAMP:20260419T181324
CREATED:20250112T174730Z
LAST-MODIFIED:20250112T174730Z
UID:10000120-1742601600-1742687999@beardedcollie.ch
SUMMARY:SBCC Generalversammlung in Kölliken\, 22. März 2025
DESCRIPTION:Die SBCC Generalversammlung findet am 22. März 2025 in Kölliken um 16.00 Uhr in der Regionalschiessanlage\, 5742 Kölliken statt. Gönner und Gäste sind herzlich willkommen. Es wird vor der GV kein Spaziergang organisiert. \nDie Einladungen werden fristgerrecht verschickt. Wir freuen uns auf zahlreiche Mitglieder.
URL:https://beardedcollie.ch/event/sbcc-generalversammlung-in-koelliken-22-maerz-2025/
END:VEVENT
BEGIN:VEVENT
DTSTART;VALUE=DATE:20250222
DTEND;VALUE=DATE:20250223
DTSTAMP:20260419T181324
CREATED:20250121T164124Z
LAST-MODIFIED:20250121T164450Z
UID:10000122-1740182400-1740268799@beardedcollie.ch
SUMMARY:Winterspaziergang in Nürensdorf am 22. Februar 2025
DESCRIPTION:Daniela und Sacha Bertschi laden herzlich zu einem Winterspaziergang in Nürensdorf ein. Treffpunkt ist um 10:30 Uhr beim Armbrustschützenverein Nürensdorf. Wir freuen uns auf viele Teilnehmende mit ihren Beardies – Gäste sind natürlich ebenfalls willkommen. \nEinladung zum Winterspazierungang am 22.02.2025
URL:https://beardedcollie.ch/event/winterspaziergang-in-nuerensdorf-am-22-februar-2025/
ATTACH;FMTTYPE=image/jpeg:https://beardedcollie.ch/wp-content/uploads/2025/01/2.jpg
END:VEVENT
BEGIN:VEVENT
DTSTART;VALUE=DATE:20241201
DTEND;VALUE=DATE:20241202
DTSTAMP:20260419T181324
CREATED:20231201T102909Z
LAST-MODIFIED:20241031T175652Z
UID:10000103-1733011200-1733097599@beardedcollie.ch
SUMMARY:Chlausspaziergang in St. Gallen\, 01. Dezember 2024
DESCRIPTION:Daniela & die Flying Dancers Bearded Collies laden euch herzlich zum traditionellen „Chlaus-Spaziergang“ ein. \nTreffpunkt ist auch dieses Jahr wieder beim Restaurant „Unterer Brand“ um 10.30 Uhr. Wir freuen uns auf zahlreiche Teilnehmer. \nEinladung Chlaus-Wanderung 2024
URL:https://beardedcollie.ch/event/chlausspaziergang-in-st-gallen-01-dezember-2024/
ATTACH;FMTTYPE=image/jpeg:https://beardedcollie.ch/wp-content/uploads/2023/12/Titel-fuer-HP.jpg
END:VEVENT
BEGIN:VEVENT
DTSTART;VALUE=DATE:20241115
DTEND;VALUE=DATE:20241118
DTSTAMP:20260419T181324
CREATED:20240215T095006Z
LAST-MODIFIED:20240926T155500Z
UID:10000111-1731628800-1731887999@beardedcollie.ch
SUMMARY:CAC/CACIB Genf\, 15.-17. November 2024
DESCRIPTION:An drei Tagen finden 4 Ausstellungen statt. \nFreitag\, 15.11.2024: CAC (Vormittag)\, Richter/in: Pierlugi Buratti (IT) & CACIB I (Nachmittag)\, Richter/in: William Rodriguez (CR) \nSamstag\, 16.11.2024: CACIB II\, Richter/in: Ronnie Natividad (PH) \nSonntag\, 17.11.2024: CACIB III\, Richter/in: Mikael Nilsson (SE)
URL:https://beardedcollie.ch/event/cac-cacib-genf-15-17-november-2024/
END:VEVENT
BEGIN:VEVENT
DTSTART;VALUE=DATE:20241105
DTEND;VALUE=DATE:20241106
DTSTAMP:20260419T181324
CREATED:20240901T164434Z
LAST-MODIFIED:20241030T175741Z
UID:10000116-1730764800-1730851199@beardedcollie.ch
SUMMARY:Herbstankörung am 5. November 2024 in Aarau ist abgesagt
DESCRIPTION:Unsere Herbstankörung findet nicht statt. \nDie nächste Körung ist für das Frühjahr 2025 vorgesehen. Bitte wenden sie sich bei Interesse an unsere Zuchtwartin Frau Silvia Egli per Tel.: 079 618 89 56 oder per Mail unter: sherrylane@gmx.ch \nBitte beachten Sie\, dass ab sofort für alle Hunde ein DNA Profil Pflicht ist für eine Zuchtzulassung. \nInformationen:  \nFür alle zur Zucht eingesetzten Hunde ist die Hinterlegung der DNA-Profile bei der Stammbuchverwaltung der SKG ab dem 1. Juli 2024 obligatorisch.  \nEs wird entweder ISAG 2006 oder ISAG 2020 eines akkreditierten / zertifizierten Labor anerkannt.  \nAls Probenmaterial für den Identitätsnachweis (DNA-Profil) werden nur Blutentnahmen (0.5ml) akzeptiert. Die Blutentnahmen müssen durch einen Tierarzt erfolgen.  \nDetaillierte Informationen sind auf der Seite der SKG zu finden:  \nhttps://www.skg.ch/zucht/skg-zuechter/vorsorgeuntersuchungen/
URL:https://beardedcollie.ch/event/herbstankoerung-am-5-november-2024-in-aarau/
END:VEVENT
BEGIN:VEVENT
DTSTART;VALUE=DATE:20241020
DTEND;VALUE=DATE:20241021
DTSTAMP:20260419T181324
CREATED:20240311T182439Z
LAST-MODIFIED:20240820T171740Z
UID:10000113-1729382400-1729468799@beardedcollie.ch
SUMMARY:Herbstspaziergang in Zunzgen / BL am 20. Oktober 2024
DESCRIPTION:Uschi Asmus und Nathalie Jäggin laden am 20. Oktober 2024 zu einem Herbstspaziergang in Zunzgen / BL ein. Wir freuen uns auf zahlreiche Teilnehmer. \nEinladung zum Herbstspaziergang in Zunzgen
URL:https://beardedcollie.ch/event/herbstspaziergang-in-zunzgen-bl-am-20-oktober-2024/
ATTACH;FMTTYPE=image/jpeg:https://beardedcollie.ch/wp-content/uploads/2024/08/Titel.jpg
END:VEVENT
BEGIN:VEVENT
DTSTART;VALUE=DATE:20240922
DTEND;VALUE=DATE:20240923
DTSTAMP:20260419T181324
CREATED:20240619T182303Z
LAST-MODIFIED:20240914T130949Z
UID:10000115-1726963200-1727049599@beardedcollie.ch
SUMMARY:CAC Clubshow in Lotzwil am 22. September 2024
DESCRIPTION:Am 22. September 2024 findet unsere CAC Clubshow (Outdoor) auf der Windhunderennbahn in 4932 Lotzwil statt. Die Ausstellung wird mit dem Bobtail Club Schweiz zusammen durchgeführt. Richterin ist Frau Susanne Langhorst-de Haan (Scottsdale) aus Deutschland. Wir freuen uns auf zahlreiche Meldungen. \nAnmeldefrist ist nun abgelaufen. \nClubshow 2024 Meldepapiere
URL:https://beardedcollie.ch/event/cac-clubshow-in-lotzwil-am-22-september-2024/
ATTACH;FMTTYPE=image/jpeg:https://beardedcollie.ch/wp-content/uploads/2024/06/Pokale_b_2024.jpg
END:VEVENT
BEGIN:VEVENT
DTSTART;VALUE=DATE:20240913
DTEND;VALUE=DATE:20240916
DTSTAMP:20260419T181324
CREATED:20240229T170443Z
LAST-MODIFIED:20240229T172238Z
UID:10000112-1726185600-1726444799@beardedcollie.ch
SUMMARY:Beardie Wochenende in Brand (Österreich)\, 13.-15.09.2024
DESCRIPTION:Pia Ulrich organisiert erneut ein Wochenende in Brand (Österreich). Wie schon im letzten Jahr sind wir Gast im Hotel Walliserhof. Für Fragen steht Pia gerne zur Verfügung. \nEinladung HUNDETAGE LEICHT GEMACHT\, Brand Walliserhof Österreich \nAngebot Walliserhof
URL:https://beardedcollie.ch/event/beardie-wochenende-in-brand-oesterreich-13-15-09-2024/
ATTACH;FMTTYPE=image/jpeg:https://beardedcollie.ch/wp-content/uploads/2024/02/Brand-Titel_a.jpg
END:VEVENT
BEGIN:VEVENT
DTSTART;VALUE=DATE:20240824
DTEND;VALUE=DATE:20240826
DTSTAMP:20260419T181324
CREATED:20240215T094800Z
LAST-MODIFIED:20240416T084206Z
UID:10000110-1724457600-1724630399@beardedcollie.ch
SUMMARY:CAC/CACIB Luzern\, 24./25. August 2024
DESCRIPTION:24. August – 25. August \n3 Shows an zwei Tagen \n24.08.2024: CAC / Vormittags\, Richter: Nico Kersten\, DE \n24.08.2024: CACIB I / Nachmittags\, Richter: Markov Damir\, SRB \n25.08.2024: CACIB II\, Richterin: Lee Ann Bateman\, CAD
URL:https://beardedcollie.ch/event/cac-cacib-luzern-24-25-august-2024/
END:VEVENT
BEGIN:VEVENT
DTSTART;VALUE=DATE:20240707
DTEND;VALUE=DATE:20240708
DTSTAMP:20260419T181324
CREATED:20240508T182036Z
LAST-MODIFIED:20240508T182213Z
UID:10000114-1720310400-1720396799@beardedcollie.ch
SUMMARY:Wanderausflug Allmendhubel\, 7. Juli 2024
DESCRIPTION:Ein besonderer „Leckerbissen“ verspricht der Wanderausflug in der Schilthorn Region zu werden. Conny Keppler organisiert am 7. Juli 2024 die Wanderung von Mürren zum Allmendhubel. Alle Details finden sie in der Einladung. \nEinladung und Informationen zum Wanderausflug
URL:https://beardedcollie.ch/event/wanderausflug-allmendhubel-7-juli-2024/
ATTACH;FMTTYPE=image/jpeg:https://beardedcollie.ch/wp-content/uploads/2024/05/Schilthorn_Einl.jpg
END:VEVENT
BEGIN:VEVENT
DTSTART;VALUE=DATE:20240622
DTEND;VALUE=DATE:20240624
DTSTAMP:20260419T181324
CREATED:20240215T094401Z
LAST-MODIFIED:20240215T094401Z
UID:10000109-1719014400-1719187199@beardedcollie.ch
SUMMARY:CAC/CACIB Aarau 22./23.Juni 2024
DESCRIPTION:3 Shows an zwei Tagen. \n22.06.2024: CAC/CACIB / Vormittags \, Richterin: Dagmar Klein\, RO \n22.06.2024: CAC / Nachmittags\, Richter: Hans Ulrich Häberli\, CH \n23.06.2024: CAC/CACIB\, Richterin: Janine Böhi-Wenger\, CH
URL:https://beardedcollie.ch/event/cac-cacib-aarau-22-23-juni-2024/
END:VEVENT
BEGIN:VEVENT
DTSTART;VALUE=DATE:20240512
DTEND;VALUE=DATE:20240513
DTSTAMP:20260419T181324
CREATED:20240208T162023Z
LAST-MODIFIED:20240227T182411Z
UID:10000108-1715472000-1715558399@beardedcollie.ch
SUMMARY:Beardie Tag am 12. Mai 2024 in Baden-Dättwil
DESCRIPTION:Am 12. Mai 2024 möchten wir zu einem Platz-Military einladen auf dem Gelände des KV Bäderstatt in 5405 Baden-Dättwil. \nEinladung zum Beardie Tag
URL:https://beardedcollie.ch/event/beardie-tag-am-12-mai-2024-in-baden-daettwil/
ATTACH;FMTTYPE=image/jpeg:https://beardedcollie.ch/wp-content/uploads/2024/02/Titel_a.jpg
END:VEVENT
BEGIN:VEVENT
DTSTART;VALUE=DATE:20240512
DTEND;VALUE=DATE:20240513
DTSTAMP:20260419T181324
CREATED:20240208T161359Z
LAST-MODIFIED:20240208T161359Z
UID:10000107-1715472000-1715558399@beardedcollie.ch
SUMMARY:Jahrgangstreffen der Welpen vom Jahr 2023 in Baden-Dättwil
DESCRIPTION:Das Jahrgangstreffen der Welpen\, geboren 2023\, findet am 12. Mai 2024 in Baden-Dättwil auf dem Gelände des KV Bäderstatt statt. Die Welpenbesitzer werden persönlich eingeladen und informiert. Einladungen und Details folgen.
URL:https://beardedcollie.ch/event/jahrgangstreffen-der-welpen-vom-jahr-2023-in-baden-daettwil/
ATTACH;FMTTYPE=image/jpeg:https://beardedcollie.ch/wp-content/uploads/2024/02/40.jpg
END:VEVENT
BEGIN:VEVENT
DTSTART;VALUE=DATE:20240428
DTEND;VALUE=DATE:20240429
DTSTAMP:20260419T181324
CREATED:20230509T092529Z
LAST-MODIFIED:20240311T183825Z
UID:10000096-1714262400-1714348799@beardedcollie.ch
SUMMARY:Frühlingsspaziergang in Pfeffingen am 28. April 2024
DESCRIPTION:Der Frühlingsspaziergang 2024 findet in Pfeffingen statt am 28.04.2024. Wir treffen uns auf dem Schlosshof in Pfeffingen. Wir freuen uns auf zahlreiche Teilnehmer. Gäste sind herzlich willkommen. Bitte die Hunde an die Leine nehmen bis wir zum Spaziergang aufbrechen. \nEinladung zum Frühlingsspaziergang
URL:https://beardedcollie.ch/event/fruehlingsspaziergang-in-pfeffingen-am-28-april-2024/
ATTACH;FMTTYPE=image/jpeg:https://beardedcollie.ch/wp-content/uploads/2023/05/35.jpg
END:VEVENT
BEGIN:VEVENT
DTSTART;VALUE=DATE:20240323
DTEND;VALUE=DATE:20240324
DTSTAMP:20260419T181324
CREATED:20240121T162243Z
LAST-MODIFIED:20240208T152800Z
UID:10000104-1711152000-1711238399@beardedcollie.ch
SUMMARY:Generalversammlung 23.03.2024
DESCRIPTION:45. Generalversammlung um 16.00 Uhr am Samstag 23.03.2024 in 5742 Kölliken in der Regionalschiessanlage (Ghürststrasse 384). \nDie Einladungen wurden am 04.02.2024 per Mail bzw. per Post verschickt.
URL:https://beardedcollie.ch/event/generalversammlung-23-03-2024/
END:VEVENT
BEGIN:VEVENT
DTSTART;VALUE=DATE:20240225
DTEND;VALUE=DATE:20240226
DTSTAMP:20260419T181324
CREATED:20240129T180407Z
LAST-MODIFIED:20240129T180713Z
UID:10000106-1708819200-1708905599@beardedcollie.ch
SUMMARY:Winterwanderung in Nürensdorf am 25.02.2024
DESCRIPTION:Danieal & Sacha Bertschi laden zur Winterwanderung in Nürensdorf am 25. Februar 2024 ein. Wir freuen uns auf zahlreiche Teilnehmer. Gäste sind ebenfalls herzlich willkommen. \nEinladung Winterwanderung 2024 \n 
URL:https://beardedcollie.ch/event/winterwanderung-in-nuerensdorf-am-25-02-2024/
ATTACH;FMTTYPE=image/jpeg:https://beardedcollie.ch/wp-content/uploads/2024/01/Winterwanderung.jpg
END:VEVENT
END:VCALENDAR